BEGIN:VCALENDAR
VERSION:2.0
PRODID:-//CREW Naples-Ft Myers Chapter - ECPv6.15.20//NONSGML v1.0//EN
CALSCALE:GREGORIAN
METHOD:PUBLISH
X-WR-CALNAME:CREW Naples-Ft Myers Chapter
X-ORIGINAL-URL:https://crewswfl.com
X-WR-CALDESC:Events for CREW Naples-Ft Myers Chapter
REFRESH-INTERVAL;VALUE=DURATION:PT1H
X-Robots-Tag:noindex
X-PUBLISHED-TTL:PT1H
BEGIN:VTIMEZONE
TZID:America/New_York
BEGIN:DAYLIGHT
TZOFFSETFROM:-0500
TZOFFSETTO:-0400
TZNAME:EDT
DTSTART:20250309T070000
END:DAYLIGHT
BEGIN:STANDARD
TZOFFSETFROM:-0400
TZOFFSETTO:-0500
TZNAME:EST
DTSTART:20251102T060000
END:STANDARD
BEGIN:DAYLIGHT
TZOFFSETFROM:-0500
TZOFFSETTO:-0400
TZNAME:EDT
DTSTART:20260308T070000
END:DAYLIGHT
BEGIN:STANDARD
TZOFFSETFROM:-0400
TZOFFSETTO:-0500
TZNAME:EST
DTSTART:20261101T060000
END:STANDARD
BEGIN:DAYLIGHT
TZOFFSETFROM:-0500
TZOFFSETTO:-0400
TZNAME:EDT
DTSTART:20270314T070000
END:DAYLIGHT
BEGIN:STANDARD
TZOFFSETFROM:-0400
TZOFFSETTO:-0500
TZNAME:EST
DTSTART:20271107T060000
END:STANDARD
END:VTIMEZONE
BEGIN:VEVENT
DTSTART;TZID=America/New_York:20261001T120000
DTEND;TZID=America/New_York:20261001T130000
DTSTAMP:20260422T184427
CREATED:20251031T015447Z
LAST-MODIFIED:20251031T015447Z
UID:3958-1790856000-1790859600@crewswfl.com
SUMMARY:BOD Meeting - Virtual
DESCRIPTION:
URL:https://crewswfl.com/event/bod-meeting-virtual-9/
CATEGORIES:All Events,BOD Meeting,Virtual Events
END:VEVENT
BEGIN:VEVENT
DTSTART;TZID=America/New_York:20261030T120000
DTEND;TZID=America/New_York:20261030T130000
DTSTAMP:20260422T184427
CREATED:20260204T211426Z
LAST-MODIFIED:20260204T211426Z
UID:4155-1793361600-1793365200@crewswfl.com
SUMMARY:CREW NETWORK: CREW Networking Hour
DESCRIPTION:Networking Zoom \nOct 30\, 2026 | 12:00 PM – 1:00 PM EDT \nFor details visit https://crewnetwork.org/en/events/2026/october-crew-networking-hour
URL:https://crewswfl.com/event/crew-network-crew-networking-hour/
CATEGORIES:All Events,National Network,Virtual Events
END:VEVENT
BEGIN:VEVENT
DTSTART;TZID=America/New_York:20261105T120000
DTEND;TZID=America/New_York:20261105T130000
DTSTAMP:20260422T184427
CREATED:20251031T015524Z
LAST-MODIFIED:20251031T015524Z
UID:3960-1793880000-1793883600@crewswfl.com
SUMMARY:BOD Meeting - Virtual
DESCRIPTION:
URL:https://crewswfl.com/event/bod-meeting-virtual-10/
CATEGORIES:All Events,BOD Meeting,Virtual Events
END:VEVENT
BEGIN:VEVENT
DTSTART;TZID=America/New_York:20261203T120000
DTEND;TZID=America/New_York:20261203T130000
DTSTAMP:20260422T184427
CREATED:20251031T015611Z
LAST-MODIFIED:20251031T015611Z
UID:3962-1796299200-1796302800@crewswfl.com
SUMMARY:BOD Meeting - Virtual
DESCRIPTION:
URL:https://crewswfl.com/event/bod-meeting-virtual-11/
CATEGORIES:All Events,BOD Meeting,Virtual Events
END:VEVENT
END:VCALENDAR