BEGIN:VCALENDAR
VERSION:2.0
PRODID:-//CREW Naples-Ft Myers Chapter - ECPv6.15.20//NONSGML v1.0//EN
CALSCALE:GREGORIAN
METHOD:PUBLISH
X-ORIGINAL-URL:https://crewswfl.com
X-WR-CALDESC:Events for CREW Naples-Ft Myers Chapter
REFRESH-INTERVAL;VALUE=DURATION:PT1H
X-Robots-Tag:noindex
X-PUBLISHED-TTL:PT1H
BEGIN:VTIMEZONE
TZID:America/New_York
BEGIN:DAYLIGHT
TZOFFSETFROM:-0500
TZOFFSETTO:-0400
TZNAME:EDT
DTSTART:20250309T070000
END:DAYLIGHT
BEGIN:STANDARD
TZOFFSETFROM:-0400
TZOFFSETTO:-0500
TZNAME:EST
DTSTART:20251102T060000
END:STANDARD
BEGIN:DAYLIGHT
TZOFFSETFROM:-0500
TZOFFSETTO:-0400
TZNAME:EDT
DTSTART:20260308T070000
END:DAYLIGHT
BEGIN:STANDARD
TZOFFSETFROM:-0400
TZOFFSETTO:-0500
TZNAME:EST
DTSTART:20261101T060000
END:STANDARD
BEGIN:DAYLIGHT
TZOFFSETFROM:-0500
TZOFFSETTO:-0400
TZNAME:EDT
DTSTART:20270314T070000
END:DAYLIGHT
BEGIN:STANDARD
TZOFFSETFROM:-0400
TZOFFSETTO:-0500
TZNAME:EST
DTSTART:20271107T060000
END:STANDARD
END:VTIMEZONE
BEGIN:VEVENT
DTSTART;TZID=America/New_York:20260320T120000
DTEND;TZID=America/New_York:20260320T130000
DTSTAMP:20260422T184811
CREATED:20260204T203034Z
LAST-MODIFIED:20260204T205712Z
UID:4134-1774008000-1774011600@crewswfl.com
SUMMARY:CREW NETWORK: CREW Networking Hour
DESCRIPTION:Networking Zoom \nMar 20\, 2026 | 12:00 PM – 1:00 PM EDT \nFor details visit https://crewnetwork.org/events/2026/march-crew-networking-hour
URL:https://crewswfl.com/event/crew-network-crew-networking-hour-mar/
CATEGORIES:All Events,National Network,Virtual Events
END:VEVENT
BEGIN:VEVENT
DTSTART;TZID=America/New_York:20260226T130000
DTEND;TZID=America/New_York:20260226T140000
DTSTAMP:20260422T184811
CREATED:20260204T202429Z
LAST-MODIFIED:20260204T204126Z
UID:4132-1772110800-1772114400@crewswfl.com
SUMMARY:CREW NETWORK: The Occupier’s Challenge: Moving from Workplace Aspirations to Impact
DESCRIPTION:Education Zoom \nFeb 26\, 2026 | 1:00 PM – 2:00 PM EST \nFor details visit https://crewnetwork.org/events/2026/the-occupier-s-challenge-moving-from-workplace-aspirations-to-impact
URL:https://crewswfl.com/event/crew-network-the-occupiers-challenge-moving-from-workplace-aspirations-to-impact/
CATEGORIES:All Events,National Network,Virtual Events
END:VEVENT
BEGIN:VEVENT
DTSTART;TZID=America/New_York:20260212T130000
DTEND;TZID=America/New_York:20260212T140000
DTSTAMP:20260422T184811
CREATED:20260204T202129Z
LAST-MODIFIED:20260204T205736Z
UID:4130-1770901200-1770904800@crewswfl.com
SUMMARY:CREW NETWORK: Meet CREW and Meet Each Other
DESCRIPTION:Networking Zoom \nFeb 12\, 2026 | 1:00 PM – 2:00 PM EST \nHosted by CREW Network \nFor details visit https://crewnetwork.org/events/2026/meet-crew-and-meet-each-other
URL:https://crewswfl.com/event/crew-network-meet-crew-and-meet-each-other-feb/
CATEGORIES:All Events,National Network,Virtual Events
END:VEVENT
BEGIN:VEVENT
DTSTART;TZID=America/New_York:20260205T100000
DTEND;TZID=America/New_York:20260206T190000
DTSTAMP:20260422T184811
CREATED:20260204T201735Z
LAST-MODIFIED:20260204T210733Z
UID:4126-1770285600-1770404400@crewswfl.com
SUMMARY:CREW NETWORK: 2026 Winter Leadership Summit
DESCRIPTION:Multi-Day Event \nThe Westin South Coast Plaza\n686 Anton Blvd\nCosta Mesa\, California\, 92626 \nFeb 5 – Feb 6\, 2026 | 10:00 AM – 7:00 PM EST \nHosted by CREW Network \nFor details visit: https://crewnetwork.org/events/2026/winter-leadership-summit
URL:https://crewswfl.com/event/crew-network-2026-winter-leadership-summit/
CATEGORIES:All Events,Leadership Summit,National Network
END:VEVENT
END:VCALENDAR