BEGIN:VCALENDAR
VERSION:2.0
PRODID:-//CREW Naples-Ft Myers Chapter - ECPv6.15.20//NONSGML v1.0//EN
CALSCALE:GREGORIAN
METHOD:PUBLISH
X-WR-CALNAME:CREW Naples-Ft Myers Chapter
X-ORIGINAL-URL:https://crewswfl.com
X-WR-CALDESC:Events for CREW Naples-Ft Myers Chapter
REFRESH-INTERVAL;VALUE=DURATION:PT1H
X-Robots-Tag:noindex
X-PUBLISHED-TTL:PT1H
BEGIN:VTIMEZONE
TZID:America/New_York
BEGIN:DAYLIGHT
TZOFFSETFROM:-0500
TZOFFSETTO:-0400
TZNAME:EDT
DTSTART:20250309T070000
END:DAYLIGHT
BEGIN:STANDARD
TZOFFSETFROM:-0400
TZOFFSETTO:-0500
TZNAME:EST
DTSTART:20251102T060000
END:STANDARD
BEGIN:DAYLIGHT
TZOFFSETFROM:-0500
TZOFFSETTO:-0400
TZNAME:EDT
DTSTART:20260308T070000
END:DAYLIGHT
BEGIN:STANDARD
TZOFFSETFROM:-0400
TZOFFSETTO:-0500
TZNAME:EST
DTSTART:20261101T060000
END:STANDARD
BEGIN:DAYLIGHT
TZOFFSETFROM:-0500
TZOFFSETTO:-0400
TZNAME:EDT
DTSTART:20270314T070000
END:DAYLIGHT
BEGIN:STANDARD
TZOFFSETFROM:-0400
TZOFFSETTO:-0500
TZNAME:EST
DTSTART:20271107T060000
END:STANDARD
END:VTIMEZONE
BEGIN:VEVENT
DTSTART;TZID=America/New_York:20260617T100000
DTEND;TZID=America/New_York:20260618T190000
DTSTAMP:20260422T222528
CREATED:20260204T204925Z
LAST-MODIFIED:20260204T204925Z
UID:4141-1781690400-1781809200@crewswfl.com
SUMMARY:CREW NETWORK: 2026 Spring Leadership Summit
DESCRIPTION:Multi-Day Event \nMinneapolis Marriott City Center\n30 S 7th St\nMinneapolis\, Minnesota\, 55402 \nJun 17 – Jun 18\, 2026 | Time TBD \nFor details visit https://crewnetwork.org/en/events/2026/spring-leadership-summit
URL:https://crewswfl.com/event/crew-network-2026-spring-leadership-summit/
CATEGORIES:All Events,Leadership Summit,National Network
END:VEVENT
BEGIN:VEVENT
DTSTART;TZID=America/New_York:20260625T130000
DTEND;TZID=America/New_York:20260625T140000
DTSTAMP:20260422T222528
CREATED:20260204T205159Z
LAST-MODIFIED:20260204T205611Z
UID:4143-1782392400-1782396000@crewswfl.com
SUMMARY:CREW NETWORK: Meet CREW and Meet Each Other
DESCRIPTION:Networking Zoom \nJun 25\, 2026 | 1:00 PM – 2:00 PM EDT \nFor details visit https://crewnetwork.org/en/events/2026/june-meet-crew-and-meet-each-other
URL:https://crewswfl.com/event/crew-network-meet-crew-and-meet-each-other-jun/
CATEGORIES:All Events,National Network,Virtual Events
END:VEVENT
END:VCALENDAR