BEGIN:VCALENDAR
VERSION:2.0
PRODID:-//CREW Naples-Ft Myers Chapter - ECPv6.15.20//NONSGML v1.0//EN
CALSCALE:GREGORIAN
METHOD:PUBLISH
X-WR-CALNAME:CREW Naples-Ft Myers Chapter
X-ORIGINAL-URL:https://crewswfl.com
X-WR-CALDESC:Events for CREW Naples-Ft Myers Chapter
REFRESH-INTERVAL;VALUE=DURATION:PT1H
X-Robots-Tag:noindex
X-PUBLISHED-TTL:PT1H
BEGIN:VTIMEZONE
TZID:America/New_York
BEGIN:DAYLIGHT
TZOFFSETFROM:-0500
TZOFFSETTO:-0400
TZNAME:EDT
DTSTART:20250309T070000
END:DAYLIGHT
BEGIN:STANDARD
TZOFFSETFROM:-0400
TZOFFSETTO:-0500
TZNAME:EST
DTSTART:20251102T060000
END:STANDARD
BEGIN:DAYLIGHT
TZOFFSETFROM:-0500
TZOFFSETTO:-0400
TZNAME:EDT
DTSTART:20260308T070000
END:DAYLIGHT
BEGIN:STANDARD
TZOFFSETFROM:-0400
TZOFFSETTO:-0500
TZNAME:EST
DTSTART:20261101T060000
END:STANDARD
BEGIN:DAYLIGHT
TZOFFSETFROM:-0500
TZOFFSETTO:-0400
TZNAME:EDT
DTSTART:20270314T070000
END:DAYLIGHT
BEGIN:STANDARD
TZOFFSETFROM:-0400
TZOFFSETTO:-0500
TZNAME:EST
DTSTART:20271107T060000
END:STANDARD
END:VTIMEZONE
BEGIN:VEVENT
DTSTART;TZID=America/New_York:20260515T120000
DTEND;TZID=America/New_York:20260515T130000
DTSTAMP:20260422T202552
CREATED:20260204T204015Z
LAST-MODIFIED:20260204T205630Z
UID:4139-1778846400-1778850000@crewswfl.com
SUMMARY:CREW NETWORK: CREW Networking Hour
DESCRIPTION:Networking Zoom \nMay 15\, 2026 | 12:00 PM – 1:00 PM EDT \nFor details visit https://crewnetwork.org/events/2026/may-crew-networking-hour
URL:https://crewswfl.com/event/crew-network-crew-networking-hour-may/
CATEGORIES:All Events,National Network,Virtual Events
END:VEVENT
END:VCALENDAR