BEGIN:VCALENDAR
VERSION:2.0
PRODID:-//CREW Naples-Ft Myers Chapter - ECPv6.15.20//NONSGML v1.0//EN
CALSCALE:GREGORIAN
METHOD:PUBLISH
X-ORIGINAL-URL:https://crewswfl.com
X-WR-CALDESC:Events for CREW Naples-Ft Myers Chapter
REFRESH-INTERVAL;VALUE=DURATION:PT1H
X-Robots-Tag:noindex
X-PUBLISHED-TTL:PT1H
BEGIN:VTIMEZONE
TZID:America/New_York
BEGIN:DAYLIGHT
TZOFFSETFROM:-0500
TZOFFSETTO:-0400
TZNAME:EDT
DTSTART:20250309T070000
END:DAYLIGHT
BEGIN:STANDARD
TZOFFSETFROM:-0400
TZOFFSETTO:-0500
TZNAME:EST
DTSTART:20251102T060000
END:STANDARD
BEGIN:DAYLIGHT
TZOFFSETFROM:-0500
TZOFFSETTO:-0400
TZNAME:EDT
DTSTART:20260308T070000
END:DAYLIGHT
BEGIN:STANDARD
TZOFFSETFROM:-0400
TZOFFSETTO:-0500
TZNAME:EST
DTSTART:20261101T060000
END:STANDARD
BEGIN:DAYLIGHT
TZOFFSETFROM:-0500
TZOFFSETTO:-0400
TZNAME:EDT
DTSTART:20270314T070000
END:DAYLIGHT
BEGIN:STANDARD
TZOFFSETFROM:-0400
TZOFFSETTO:-0500
TZNAME:EST
DTSTART:20271107T060000
END:STANDARD
END:VTIMEZONE
BEGIN:VEVENT
DTSTART;TZID=America/New_York:20260617T100000
DTEND;TZID=America/New_York:20260618T190000
DTSTAMP:20260422T203916
CREATED:20260204T204925Z
LAST-MODIFIED:20260204T204925Z
UID:4141-1781690400-1781809200@crewswfl.com
SUMMARY:CREW NETWORK: 2026 Spring Leadership Summit
DESCRIPTION:Multi-Day Event \nMinneapolis Marriott City Center\n30 S 7th St\nMinneapolis\, Minnesota\, 55402 \nJun 17 – Jun 18\, 2026 | Time TBD \nFor details visit https://crewnetwork.org/en/events/2026/spring-leadership-summit
URL:https://crewswfl.com/event/crew-network-2026-spring-leadership-summit/
CATEGORIES:All Events,Leadership Summit,National Network
END:VEVENT
BEGIN:VEVENT
DTSTART;TZID=America/New_York:20260923T080000
DTEND;TZID=America/New_York:20260923T170000
DTSTAMP:20260422T203916
CREATED:20260204T210330Z
LAST-MODIFIED:20260204T210506Z
UID:4149-1790150400-1790182800@crewswfl.com
SUMMARY:CREW NETWORK: 2026 Fall Leadership Summit
DESCRIPTION:Fontainebleau Miami Beach\n4441 Collins Ave\nMiami Beach\, Florida\, 33140 \nSep 23\, 2026 | Time TBD \nFor details visit https://crewnetwork.org/en/events/2026/fall-leadership-summit
URL:https://crewswfl.com/event/crew-network-2026-fall-leadership-summit/
CATEGORIES:All Events,Leadership Summit,National Network
END:VEVENT
BEGIN:VEVENT
DTSTART;TZID=America/New_York:20260924T080000
DTEND;TZID=America/New_York:20260924T170000
DTSTAMP:20260422T203916
CREATED:20260116T001654Z
LAST-MODIFIED:20260116T002030Z
UID:4111-1790236800-1790269200@crewswfl.com
SUMMARY:Fall Summit - Miami
DESCRIPTION:More details to come
URL:https://crewswfl.com/event/fall-summit-miami/
CATEGORIES:All Events,Leadership Summit,Members Only Event
END:VEVENT
END:VCALENDAR