BEGIN:VCALENDAR
VERSION:2.0
PRODID:-//CREW Naples-Ft Myers Chapter - ECPv6.15.20//NONSGML v1.0//EN
CALSCALE:GREGORIAN
METHOD:PUBLISH
X-WR-CALNAME:CREW Naples-Ft Myers Chapter
X-ORIGINAL-URL:https://crewswfl.com
X-WR-CALDESC:Events for CREW Naples-Ft Myers Chapter
REFRESH-INTERVAL;VALUE=DURATION:PT1H
X-Robots-Tag:noindex
X-PUBLISHED-TTL:PT1H
BEGIN:VTIMEZONE
TZID:America/New_York
BEGIN:DAYLIGHT
TZOFFSETFROM:-0500
TZOFFSETTO:-0400
TZNAME:EDT
DTSTART:20250309T070000
END:DAYLIGHT
BEGIN:STANDARD
TZOFFSETFROM:-0400
TZOFFSETTO:-0500
TZNAME:EST
DTSTART:20251102T060000
END:STANDARD
BEGIN:DAYLIGHT
TZOFFSETFROM:-0500
TZOFFSETTO:-0400
TZNAME:EDT
DTSTART:20260308T070000
END:DAYLIGHT
BEGIN:STANDARD
TZOFFSETFROM:-0400
TZOFFSETTO:-0500
TZNAME:EST
DTSTART:20261101T060000
END:STANDARD
BEGIN:DAYLIGHT
TZOFFSETFROM:-0500
TZOFFSETTO:-0400
TZNAME:EDT
DTSTART:20270314T070000
END:DAYLIGHT
BEGIN:STANDARD
TZOFFSETFROM:-0400
TZOFFSETTO:-0500
TZNAME:EST
DTSTART:20271107T060000
END:STANDARD
BEGIN:DAYLIGHT
TZOFFSETFROM:-0500
TZOFFSETTO:-0400
TZNAME:EDT
DTSTART:20280312T070000
END:DAYLIGHT
BEGIN:STANDARD
TZOFFSETFROM:-0400
TZOFFSETTO:-0500
TZNAME:EST
DTSTART:20281105T060000
END:STANDARD
END:VTIMEZONE
BEGIN:VEVENT
DTSTART;TZID=America/New_York:20260923T080000
DTEND;TZID=America/New_York:20260925T170000
DTSTAMP:20260422T204629
CREATED:20260204T211059Z
LAST-MODIFIED:20260204T211059Z
UID:4153-1790150400-1790355600@crewswfl.com
SUMMARY:CREW NETWORK: 2026 CREW Network Convention
DESCRIPTION:Multi-Day Event \n2026 CREW Network Convention\nFontainebleau Miami Beach\n4441 Collins Ave\nMiami Beach\, Florida\, 33140 \nSep 23 – Sep 25\, 2026 | Time TBD \nFor details visit https://crewnetwork.org/en/events/2026/crew-network-convention
URL:https://crewswfl.com/event/crew-network-2026-crew-network-convention/
CATEGORIES:All Events,Convention,National Network,Virtual Events
END:VEVENT
BEGIN:VEVENT
DTSTART;TZID=America/New_York:20260924T080000
DTEND;TZID=America/New_York:20260925T170000
DTSTAMP:20260422T204629
CREATED:20260116T001837Z
LAST-MODIFIED:20260116T001958Z
UID:4113-1790236800-1790355600@crewswfl.com
SUMMARY:CREW Convention - Miami
DESCRIPTION:For details visit https://crewnetwork.org/events/2026/crew-network-convention
URL:https://crewswfl.com/event/crew-convention-miami/
CATEGORIES:All Events,Convention,Members Only Event
END:VEVENT
BEGIN:VEVENT
DTSTART;TZID=America/New_York:20270929T080000
DTEND;TZID=America/New_York:20271001T170000
DTSTAMP:20260422T204629
CREATED:20260204T211712Z
LAST-MODIFIED:20260204T211712Z
UID:4157-1822204800-1822410000@crewswfl.com
SUMMARY:CREW NETWORK: 2027 CREW Network Convention
DESCRIPTION:Multi-Day Event \n2027 CREW Network Convention\nSheraton Phoenix Downtown\n340 North 3rd Street\nPhoenix\, Arizona\, 85004 \nSep 29 – Oct 1\, 2027 | Time TBD \nFor details visit https://crewnetwork.org/en/events/2027/2027-crew-convention
URL:https://crewswfl.com/event/crew-network-2027-crew-network-convention/
CATEGORIES:All Events,Convention,National Network
END:VEVENT
END:VCALENDAR