BEGIN:VCALENDAR
VERSION:2.0
PRODID:-//CREW Naples-Ft Myers Chapter - ECPv6.15.20//NONSGML v1.0//EN
CALSCALE:GREGORIAN
METHOD:PUBLISH
X-ORIGINAL-URL:https://crewswfl.com
X-WR-CALDESC:Events for CREW Naples-Ft Myers Chapter
REFRESH-INTERVAL;VALUE=DURATION:PT1H
X-Robots-Tag:noindex
X-PUBLISHED-TTL:PT1H
BEGIN:VTIMEZONE
TZID:America/New_York
BEGIN:DAYLIGHT
TZOFFSETFROM:-0500
TZOFFSETTO:-0400
TZNAME:EDT
DTSTART:20250309T070000
END:DAYLIGHT
BEGIN:STANDARD
TZOFFSETFROM:-0400
TZOFFSETTO:-0500
TZNAME:EST
DTSTART:20251102T060000
END:STANDARD
BEGIN:DAYLIGHT
TZOFFSETFROM:-0500
TZOFFSETTO:-0400
TZNAME:EDT
DTSTART:20260308T070000
END:DAYLIGHT
BEGIN:STANDARD
TZOFFSETFROM:-0400
TZOFFSETTO:-0500
TZNAME:EST
DTSTART:20261101T060000
END:STANDARD
BEGIN:DAYLIGHT
TZOFFSETFROM:-0500
TZOFFSETTO:-0400
TZNAME:EDT
DTSTART:20270314T070000
END:DAYLIGHT
BEGIN:STANDARD
TZOFFSETFROM:-0400
TZOFFSETTO:-0500
TZNAME:EST
DTSTART:20271107T060000
END:STANDARD
END:VTIMEZONE
BEGIN:VEVENT
DTSTART;TZID=America/New_York:20260507T120000
DTEND;TZID=America/New_York:20260507T130000
DTSTAMP:20260422T164820
CREATED:20251031T014927Z
LAST-MODIFIED:20251031T014927Z
UID:3946-1778155200-1778158800@crewswfl.com
SUMMARY:BOD Meeting - Virtual
DESCRIPTION:
URL:https://crewswfl.com/event/bod-meeting-virtual-5/
CATEGORIES:All Events,BOD Meeting,Virtual Events
END:VEVENT
BEGIN:VEVENT
DTSTART;TZID=America/New_York:20260604T120000
DTEND;TZID=America/New_York:20260604T130000
DTSTAMP:20260422T164820
CREATED:20251031T015003Z
LAST-MODIFIED:20251031T015003Z
UID:3948-1780574400-1780578000@crewswfl.com
SUMMARY:BOD Meeting - Virtual
DESCRIPTION:
URL:https://crewswfl.com/event/bod-meeting-virtual-6/
CATEGORIES:All Events,BOD Meeting,Virtual Events
END:VEVENT
BEGIN:VEVENT
DTSTART;TZID=America/New_York:20260702T120000
DTEND;TZID=America/New_York:20260702T130000
DTSTAMP:20260422T164820
CREATED:20251031T015043Z
LAST-MODIFIED:20251031T015245Z
UID:3950-1782993600-1782997200@crewswfl.com
SUMMARY:BOD Meeting - In Person
DESCRIPTION:Location: TBA
URL:https://crewswfl.com/event/bod-meeting/
CATEGORIES:All Events,BOD Meeting
END:VEVENT
BEGIN:VEVENT
DTSTART;TZID=America/New_York:20260806T120000
DTEND;TZID=America/New_York:20260806T130000
DTSTAMP:20260422T164820
CREATED:20251031T015336Z
LAST-MODIFIED:20251031T015336Z
UID:3954-1786017600-1786021200@crewswfl.com
SUMMARY:BOD Meeting - Virtual
DESCRIPTION:
URL:https://crewswfl.com/event/bod-meeting-virtual-7/
CATEGORIES:All Events,BOD Meeting,Virtual Events
END:VEVENT
BEGIN:VEVENT
DTSTART;TZID=America/New_York:20260903T120000
DTEND;TZID=America/New_York:20260903T130000
DTSTAMP:20260422T164820
CREATED:20251031T015416Z
LAST-MODIFIED:20251031T015416Z
UID:3956-1788436800-1788440400@crewswfl.com
SUMMARY:BOD Meeting - Virtual
DESCRIPTION:
URL:https://crewswfl.com/event/bod-meeting-virtual-8/
CATEGORIES:All Events,BOD Meeting,Virtual Events
END:VEVENT
BEGIN:VEVENT
DTSTART;TZID=America/New_York:20261001T120000
DTEND;TZID=America/New_York:20261001T130000
DTSTAMP:20260422T164820
CREATED:20251031T015447Z
LAST-MODIFIED:20251031T015447Z
UID:3958-1790856000-1790859600@crewswfl.com
SUMMARY:BOD Meeting - Virtual
DESCRIPTION:
URL:https://crewswfl.com/event/bod-meeting-virtual-9/
CATEGORIES:All Events,BOD Meeting,Virtual Events
END:VEVENT
BEGIN:VEVENT
DTSTART;TZID=America/New_York:20261105T120000
DTEND;TZID=America/New_York:20261105T130000
DTSTAMP:20260422T164820
CREATED:20251031T015524Z
LAST-MODIFIED:20251031T015524Z
UID:3960-1793880000-1793883600@crewswfl.com
SUMMARY:BOD Meeting - Virtual
DESCRIPTION:
URL:https://crewswfl.com/event/bod-meeting-virtual-10/
CATEGORIES:All Events,BOD Meeting,Virtual Events
END:VEVENT
BEGIN:VEVENT
DTSTART;TZID=America/New_York:20261203T120000
DTEND;TZID=America/New_York:20261203T130000
DTSTAMP:20260422T164820
CREATED:20251031T015611Z
LAST-MODIFIED:20251031T015611Z
UID:3962-1796299200-1796302800@crewswfl.com
SUMMARY:BOD Meeting - Virtual
DESCRIPTION:
URL:https://crewswfl.com/event/bod-meeting-virtual-11/
CATEGORIES:All Events,BOD Meeting,Virtual Events
END:VEVENT
END:VCALENDAR